BEGIN:VCALENDAR
VERSION:2.0
PRODID:-//Cosmic Broomstick - ECPv6.15.20//NONSGML v1.0//EN
CALSCALE:GREGORIAN
METHOD:PUBLISH
X-ORIGINAL-URL:https://cosmicbroomstick.com
X-WR-CALDESC:Events for Cosmic Broomstick
REFRESH-INTERVAL;VALUE=DURATION:PT1H
X-Robots-Tag:noindex
X-PUBLISHED-TTL:PT1H
BEGIN:VTIMEZONE
TZID:America/Detroit
BEGIN:DAYLIGHT
TZOFFSETFROM:-0500
TZOFFSETTO:-0400
TZNAME:EDT
DTSTART:20250309T070000
END:DAYLIGHT
BEGIN:STANDARD
TZOFFSETFROM:-0400
TZOFFSETTO:-0500
TZNAME:EST
DTSTART:20251102T060000
END:STANDARD
BEGIN:DAYLIGHT
TZOFFSETFROM:-0500
TZOFFSETTO:-0400
TZNAME:EDT
DTSTART:20260308T070000
END:DAYLIGHT
BEGIN:STANDARD
TZOFFSETFROM:-0400
TZOFFSETTO:-0500
TZNAME:EST
DTSTART:20261101T060000
END:STANDARD
BEGIN:DAYLIGHT
TZOFFSETFROM:-0500
TZOFFSETTO:-0400
TZNAME:EDT
DTSTART:20270314T070000
END:DAYLIGHT
BEGIN:STANDARD
TZOFFSETFROM:-0400
TZOFFSETTO:-0500
TZNAME:EST
DTSTART:20271107T060000
END:STANDARD
END:VTIMEZONE
BEGIN:VEVENT
DTSTART;TZID=America/Detroit:20260310T160000
DTEND;TZID=America/Detroit:20260310T200000
DTSTAMP:20260423T182816
CREATED:20260220T040243Z
LAST-MODIFIED:20260220T040300Z
UID:6118-1773158400-1773172800@cosmicbroomstick.com
SUMMARY:Psychic Mysteries
DESCRIPTION:Join us on Tuesday\, March 10th\, 2026\, for a Psychic Mysteries Event. Crystal Magic Heaven To Earth Connection is hosting live readers and select vendors at Underdogs Sports Bar in Hillsdale Michigan. Underdogs is located inside Hillsdale Market House. Located at 210 W Carleton Rd.  The event runs from 4:00 pm to 8:00 pm. Readings are 20 minutes for $40. If you plan to attend for a reading\, please call (517) 962-1164 to make a reservation. Walk ins will be accepted for open slots. \nWhisper The Legend...\n				Share on Facebook (Opens in new window)\n				Facebook\n			\n				Share on Pinterest (Opens in new window)\n				Pinterest\n			\n				Share on Reddit (Opens in new window)\n				Reddit\n			More\n				Share on Bluesky (Opens in new window)\n				Bluesky\n			\n				Share on LinkedIn (Opens in new window)\n				LinkedIn\n			\n				Share on Mastodon (Opens in new window)\n				Mastodon\n			\n				Share on Nextdoor (Opens in new window)\n				Nextdoor\n			\n				Share on Telegram (Opens in new window)\n				Telegram\n			\n				Share on Threads (Opens in new window)\n				Threads\n			\n				Share on Tumblr (Opens in new window)\n				Tumblr\n			\n				Share on WhatsApp (Opens in new window)\n				WhatsApp\n			\n				Share on X (Opens in new window)\n				X\n			\n				Print (Opens in new window)\n				Print\n			\n				Email a link to a friend (Opens in new window)\n				Email
URL:https://cosmicbroomstick.com/event/psychic-mysteries/
LOCATION:Underdogs\, 210 W Carleton Rd\, Hillsdale\, MI\, 49242\, United States
END:VEVENT
END:VCALENDAR